BEGIN:VCALENDAR
PRODID:-//eluceo/ical//2.0/EN
VERSION:2.0
CALSCALE:GREGORIAN
BEGIN:VEVENT
UID:9fa120b45668bcd324aa1389ac1246cd
DTSTAMP:20260422T034521Z
SUMMARY:IAC  Committee Meeting
DESCRIPTION:Jewish Federation of Greater Naples\nCommunity Calendar\nhttps:
 //jewishnaples.org/calendar/calendar17022\n\nIAC  Committee Meeting
DTSTART;TZID=America/New_York:20160210T133000
DTEND;TZID=America/New_York:20160210T133000
END:VEVENT
END:VCALENDAR
