BEGIN:VCALENDAR
PRODID:-//eluceo/ical//2.0/EN
VERSION:2.0
CALSCALE:GREGORIAN
BEGIN:VEVENT
UID:feca17695c4468fbb402ccab9efe9f58
DTSTAMP:20260424T095328Z
SUMMARY:Rosh Chodesh
DESCRIPTION:Jewish Federation of Greater Naples\nCommunity Calendar\nhttps:
 //jewishnaples.org/calendar/calendar17019\n\nRosh Chodesh
DTSTART;TZID=America/New_York:20160210T000000
DTEND;TZID=America/New_York:20160211T000000
END:VEVENT
END:VCALENDAR
