BEGIN:VCALENDAR
PRODID:-//eluceo/ical//2.0/EN
VERSION:2.0
CALSCALE:GREGORIAN
BEGIN:VEVENT
UID:bcb67c0805ed46cfa6c23ab5d7dedc68
DTSTAMP:20260422T005509Z
SUMMARY:IAC - Class
DESCRIPTION:Jewish Federation of Greater Naples\nCommunity Calendar\nhttps:
 //jewishnaples.org/calendar/calendar17017\n\nIAC - Class
DTSTART;TZID=America/New_York:20160209T190000
DTEND;TZID=America/New_York:20160209T190000
END:VEVENT
END:VCALENDAR
