BEGIN:VCALENDAR
PRODID:-//eluceo/ical//2.0/EN
VERSION:2.0
CALSCALE:GREGORIAN
BEGIN:VEVENT
UID:7b0d053ef09d8bdf10ee88fa205991d7
DTSTAMP:20260423T210810Z
SUMMARY:TER / Cardozo Society Dinner
DESCRIPTION:Jewish Federation of Greater Naples\nCommunity Calendar\nhttps:
 //jewishnaples.org/calendar/calendar17016\n\nTER / Cardozo Society Dinner
DTSTART;TZID=America/New_York:20160209T180000
DTEND;TZID=America/New_York:20160209T180000
END:VEVENT
END:VCALENDAR
