BEGIN:VCALENDAR
PRODID:-//eluceo/ical//2.0/EN
VERSION:2.0
CALSCALE:GREGORIAN
BEGIN:VEVENT
UID:1088cdad1afcf1631ac95a2acbbce6b1
DTSTAMP:20260423T201407Z
SUMMARY:Jewish Genealogy SIG
DESCRIPTION:Jewish Federation of Greater Naples\nCommunity Calendar\nhttps:
 //jewishnaples.org/calendar/calendar17011\n\nJewish Genealogy SIG
DTSTART;TZID=America/New_York:20160209T100000
DTEND;TZID=America/New_York:20160209T100000
END:VEVENT
END:VCALENDAR
