BEGIN:VCALENDAR
PRODID:-//eluceo/ical//2.0/EN
VERSION:2.0
CALSCALE:GREGORIAN
BEGIN:VEVENT
UID:648f3fcd3016a56d653dcbbbe2356654
DTSTAMP:20260424T120903Z
SUMMARY:HDH Daytime Study Group
DESCRIPTION:Jewish Federation of Greater Naples\nCommunity Calendar\nhttps:
 //jewishnaples.org/calendar/calendar17008\n\nHDH Daytime Study Group
DTSTART;TZID=America/New_York:20160208T130000
DTEND;TZID=America/New_York:20160208T130000
END:VEVENT
END:VCALENDAR
