BEGIN:VCALENDAR
PRODID:-//eluceo/ical//2.0/EN
VERSION:2.0
CALSCALE:GREGORIAN
BEGIN:VEVENT
UID:df6629806159bd06b2e1ba36018becf1
DTSTAMP:20260422T022523Z
SUMMARY:HM - Elliott Katz Lecture Series
DESCRIPTION:Jewish Federation of Greater Naples\nCommunity Calendar\nhttps:
 //jewishnaples.org/calendar/calendar17007\n\nHM - Elliott Katz Lecture Ser
 ies
DTSTART;TZID=America/New_York:20160208T100000
DTEND;TZID=America/New_York:20160208T100000
END:VEVENT
END:VCALENDAR
