BEGIN:VCALENDAR
PRODID:-//eluceo/ical//2.0/EN
VERSION:2.0
CALSCALE:GREGORIAN
BEGIN:VEVENT
UID:39b6ec7b08ec1e97c7c3f34617804be0
DTSTAMP:20260420T140639Z
SUMMARY:TS  Sisterhood Board Meeting
DESCRIPTION:Jewish Federation of Greater Naples\nCommunity Calendar\nhttps:
 //jewishnaples.org/calendar/calendar17006\n\nTS  Sisterhood Board Meeting
DTSTART;TZID=America/New_York:20160207T100000
DTEND;TZID=America/New_York:20160207T100000
END:VEVENT
END:VCALENDAR
