BEGIN:VCALENDAR
PRODID:-//eluceo/ical//2.0/EN
VERSION:2.0
CALSCALE:GREGORIAN
BEGIN:VEVENT
UID:18c6650e759f588dc74dc1980f33452c
DTSTAMP:20260423T071814Z
SUMMARY:TS Services
DESCRIPTION:Jewish Federation of Greater Naples\nCommunity Calendar\nhttps:
 //jewishnaples.org/calendar/calendar17002\n\nTS Services
DTSTART;TZID=America/New_York:20160206T100000
DTEND;TZID=America/New_York:20160206T100000
END:VEVENT
END:VCALENDAR
