BEGIN:VCALENDAR
PRODID:-//eluceo/ical//2.0/EN
VERSION:2.0
CALSCALE:GREGORIAN
BEGIN:VEVENT
UID:af360258904a3f0ed68ab537a9f3d4a5
DTSTAMP:20260424T045048Z
SUMMARY:JCMI  Shabbat Services
DESCRIPTION:Jewish Federation of Greater Naples\nCommunity Calendar\nhttps:
 //jewishnaples.org/calendar/calendar17001\n\nJCMI  Shabbat Services
DTSTART;TZID=America/New_York:20160206T100000
DTEND;TZID=America/New_York:20160206T100000
END:VEVENT
END:VCALENDAR
