BEGIN:VCALENDAR
PRODID:-//eluceo/ical//2.0/EN
VERSION:2.0
CALSCALE:GREGORIAN
BEGIN:VEVENT
UID:665a6d4b1c3c024acf2875799d32bada
DTSTAMP:20260422T003625Z
SUMMARY:CJD/JFCC Fiilm & Discussion
DESCRIPTION:Jewish Federation of Greater Naples\nCommunity Calendar\nhttps:
 //jewishnaples.org/calendar/calendar17\n\nCommunity Room at the Federation
  Offices\nRabbi Wolf & Fr. Bob \nWalking in G-d's Path\nShort Film & Discu
 ssion
DTSTART;TZID=America/New_York:20150322T140000
DTEND;TZID=America/New_York:20150322T140000
END:VEVENT
END:VCALENDAR
