BEGIN:VCALENDAR
PRODID:-//eluceo/ical//2.0/EN
VERSION:2.0
CALSCALE:GREGORIAN
BEGIN:VEVENT
UID:b4b9113b34744a27e2105d30b31a2ec1
DTSTAMP:20260423T180614Z
SUMMARY:TS Torah Talk
DESCRIPTION:Jewish Federation of Greater Naples\nCommunity Calendar\nhttps:
 //jewishnaples.org/calendar/calendar16998\n\nTS Torah Talk
DTSTART;TZID=America/New_York:20160206T083000
DTEND;TZID=America/New_York:20160206T083000
END:VEVENT
END:VCALENDAR
