BEGIN:VCALENDAR
PRODID:-//eluceo/ical//2.0/EN
VERSION:2.0
CALSCALE:GREGORIAN
BEGIN:VEVENT
UID:335268d97176e88d72d74be9b2308276
DTSTAMP:20260421T203817Z
SUMMARY:JCMI  Services
DESCRIPTION:Jewish Federation of Greater Naples\nCommunity Calendar\nhttps:
 //jewishnaples.org/calendar/calendar16997\n\nJCMI  Services
DTSTART;TZID=America/New_York:20160205T200000
DTEND;TZID=America/New_York:20160205T200000
END:VEVENT
END:VCALENDAR
