BEGIN:VCALENDAR
PRODID:-//eluceo/ical//2.0/EN
VERSION:2.0
CALSCALE:GREGORIAN
BEGIN:VEVENT
UID:7bab63c44b89b696bbe1eabd145211f1
DTSTAMP:20260423T175548Z
SUMMARY:TS  Shir Joy Shabbat
DESCRIPTION:Jewish Federation of Greater Naples\nCommunity Calendar\nhttps:
 //jewishnaples.org/calendar/calendar16995\n\nTS  Shir Joy Shabbat
DTSTART;TZID=America/New_York:20160205T183000
DTEND;TZID=America/New_York:20160205T183000
END:VEVENT
END:VCALENDAR
