BEGIN:VCALENDAR
PRODID:-//eluceo/ical//2.0/EN
VERSION:2.0
CALSCALE:GREGORIAN
BEGIN:VEVENT
UID:90031c65aa19087872171ee5ab81df6a
DTSTAMP:20260420T102455Z
SUMMARY:BBYO  Youth Activity
DESCRIPTION:Jewish Federation of Greater Naples\nCommunity Calendar\nhttps:
 //jewishnaples.org/calendar/calendar16992\n\nBBYO  Youth Activity
DTSTART;TZID=America/New_York:20160204T180000
DTEND;TZID=America/New_York:20160204T180000
END:VEVENT
END:VCALENDAR
