BEGIN:VCALENDAR
PRODID:-//eluceo/ical//2.0/EN
VERSION:2.0
CALSCALE:GREGORIAN
BEGIN:VEVENT
UID:e7f6a890f08234889a5a5b5cf6c24332
DTSTAMP:20260424T060203Z
SUMMARY:BT  Hebrew School
DESCRIPTION:Jewish Federation of Greater Naples\nCommunity Calendar\nhttps:
 //jewishnaples.org/calendar/calendar16984\n\nBT  Hebrew School
DTSTART;TZID=America/New_York:20160203T163000
DTEND;TZID=America/New_York:20160203T163000
END:VEVENT
END:VCALENDAR
