BEGIN:VCALENDAR
PRODID:-//eluceo/ical//2.0/EN
VERSION:2.0
CALSCALE:GREGORIAN
BEGIN:VEVENT
UID:32e76086608e27245ae9f03f88f9461f
DTSTAMP:20260424T101809Z
SUMMARY:JCRC Meeting
DESCRIPTION:Jewish Federation of Greater Naples\nCommunity Calendar\nhttps:
 //jewishnaples.org/calendar/calendar16983\n\nJCRC Meeting
DTSTART;TZID=America/New_York:20160203T133000
DTEND;TZID=America/New_York:20160203T133000
END:VEVENT
END:VCALENDAR
