BEGIN:VCALENDAR
PRODID:-//eluceo/ical//2.0/EN
VERSION:2.0
CALSCALE:GREGORIAN
BEGIN:VEVENT
UID:2b1fa05ceb6efd0388ad4f8d9417f065
DTSTAMP:20260422T101656Z
SUMMARY:WCA - TS  Canasta
DESCRIPTION:Jewish Federation of Greater Naples\nCommunity Calendar\nhttps:
 //jewishnaples.org/calendar/calendar16982\n\nWCA - TS  Canasta
DTSTART;TZID=America/New_York:20160203T130000
DTEND;TZID=America/New_York:20160203T130000
END:VEVENT
END:VCALENDAR
