BEGIN:VCALENDAR
PRODID:-//eluceo/ical//2.0/EN
VERSION:2.0
CALSCALE:GREGORIAN
BEGIN:VEVENT
UID:6218d586c327e5022492eeb55bccac66
DTSTAMP:20260423T014432Z
SUMMARY:HDH  Board Meeting - TS
DESCRIPTION:Jewish Federation of Greater Naples\nCommunity Calendar\nhttps:
 //jewishnaples.org/calendar/calendar16976\n\nHDH  Board Meeting - TS
DTSTART;TZID=America/New_York:20160202T130000
DTEND;TZID=America/New_York:20160202T130000
END:VEVENT
END:VCALENDAR
