BEGIN:VCALENDAR
PRODID:-//eluceo/ical//2.0/EN
VERSION:2.0
CALSCALE:GREGORIAN
BEGIN:VEVENT
UID:0e8afc5d506069541a361385ce25cdea
DTSTAMP:20260422T154725Z
SUMMARY:JCMI  Bingo
DESCRIPTION:Jewish Federation of Greater Naples\nCommunity Calendar\nhttps:
 //jewishnaples.org/calendar/calendar16972\n\nJCMI  Bingo
DTSTART;TZID=America/New_York:20160201T173000
DTEND;TZID=America/New_York:20160201T173000
END:VEVENT
END:VCALENDAR
