BEGIN:VCALENDAR
PRODID:-//eluceo/ical//2.0/EN
VERSION:2.0
CALSCALE:GREGORIAN
BEGIN:VEVENT
UID:716261ee5642c440e0d29a7316e2becd
DTSTAMP:20260421T201234Z
SUMMARY:HDH Mahj & Card Party
DESCRIPTION:Jewish Federation of Greater Naples\nCommunity Calendar\nhttps:
 //jewishnaples.org/calendar/calendar16971\n\nHDH Mahj & Card Party
DTSTART;TZID=America/New_York:20160201T113000
DTEND;TZID=America/New_York:20160201T113000
END:VEVENT
END:VCALENDAR
