BEGIN:VCALENDAR
PRODID:-//eluceo/ical//2.0/EN
VERSION:2.0
CALSCALE:GREGORIAN
BEGIN:VEVENT
UID:c5a017b28fdbea6c22db27928fa3fcc6
DTSTAMP:20260423T064539Z
SUMMARY:TS Pre-K Orientation
DESCRIPTION:Jewish Federation of Greater Naples\nCommunity Calendar\nhttps:
 //jewishnaples.org/calendar/calendar16969\n\nTS Pre-K Orientation
DTSTART;TZID=America/New_York:20160201T093000
DTEND;TZID=America/New_York:20160201T093000
END:VEVENT
END:VCALENDAR
