BEGIN:VCALENDAR
PRODID:-//eluceo/ical//2.0/EN
VERSION:2.0
CALSCALE:GREGORIAN
BEGIN:VEVENT
UID:c79238893531f0850920629110b4a748
DTSTAMP:20260422T130743Z
SUMMARY:NJC : Sunday Afternoon Movie
DESCRIPTION:Jewish Federation of Greater Naples\nCommunity Calendar\nhttps:
 //jewishnaples.org/calendar/calendar16967\n\nNJC : Sunday Afternoon Movie
DTSTART;TZID=America/New_York:20160131T150000
DTEND;TZID=America/New_York:20160131T150000
END:VEVENT
END:VCALENDAR
