BEGIN:VCALENDAR
PRODID:-//eluceo/ical//2.0/EN
VERSION:2.0
CALSCALE:GREGORIAN
BEGIN:VEVENT
UID:ef80af00c04138a08eb2818ecab4c5d2
DTSTAMP:20260422T221123Z
SUMMARY:TS Scholar-in-Residence
DESCRIPTION:Jewish Federation of Greater Naples\nCommunity Calendar\nhttps:
 //jewishnaples.org/calendar/calendar16965\n\nTS Scholar-in-Residence
DTSTART;TZID=America/New_York:20160131T100000
DTEND;TZID=America/New_York:20160131T100000
END:VEVENT
END:VCALENDAR
