BEGIN:VCALENDAR
PRODID:-//eluceo/ical//2.0/EN
VERSION:2.0
CALSCALE:GREGORIAN
BEGIN:VEVENT
UID:8ce30802e95ca564803a902d87d16e06
DTSTAMP:20260423T050412Z
SUMMARY:BT Sunday Minyan
DESCRIPTION:Jewish Federation of Greater Naples\nCommunity Calendar\nhttps:
 //jewishnaples.org/calendar/calendar16963\n\nBT Sunday Minyan
DTSTART;TZID=America/New_York:20160131T090000
DTEND;TZID=America/New_York:20160131T090000
END:VEVENT
END:VCALENDAR
