BEGIN:VCALENDAR
PRODID:-//eluceo/ical//2.0/EN
VERSION:2.0
CALSCALE:GREGORIAN
BEGIN:VEVENT
UID:302d194d87344eac584c05b4b41b603d
DTSTAMP:20260423T112833Z
SUMMARY:TS Scholar-in-Residence
DESCRIPTION:Jewish Federation of Greater Naples\nCommunity Calendar\nhttps:
 //jewishnaples.org/calendar/calendar16961\n\nTS Scholar-in-Residence
DTSTART;TZID=America/New_York:20160130T103000
DTEND;TZID=America/New_York:20160130T103000
END:VEVENT
END:VCALENDAR
