BEGIN:VCALENDAR
PRODID:-//eluceo/ical//2.0/EN
VERSION:2.0
CALSCALE:GREGORIAN
BEGIN:VEVENT
UID:0d4b27799a3b9a78fbb514f3d071a343
DTSTAMP:20260424T075142Z
SUMMARY:CHA  Services
DESCRIPTION:Jewish Federation of Greater Naples\nCommunity Calendar\nhttps:
 //jewishnaples.org/calendar/calendar16958\n\nCHA  Services
DTSTART;TZID=America/New_York:20160130T100000
DTEND;TZID=America/New_York:20160130T100000
END:VEVENT
END:VCALENDAR
