BEGIN:VCALENDAR
PRODID:-//eluceo/ical//2.0/EN
VERSION:2.0
CALSCALE:GREGORIAN
BEGIN:VEVENT
UID:9f0b31608c7f6b2b48ed5f6aa0f6a7c4
DTSTAMP:20260423T072523Z
SUMMARY:TS Scholar-in-Residence
DESCRIPTION:Jewish Federation of Greater Naples\nCommunity Calendar\nhttps:
 //jewishnaples.org/calendar/calendar16952\n\nTS Scholar-in-Residence
DTSTART;TZID=America/New_York:20160129T170000
DTEND;TZID=America/New_York:20160129T170000
END:VEVENT
END:VCALENDAR
