BEGIN:VCALENDAR
PRODID:-//eluceo/ical//2.0/EN
VERSION:2.0
CALSCALE:GREGORIAN
BEGIN:VEVENT
UID:c9a1f7a8e22d7c2b06a9cd0d2dc56d32
DTSTAMP:20260422T130733Z
SUMMARY:BBYO  Youth Activity
DESCRIPTION:Jewish Federation of Greater Naples\nCommunity Calendar\nhttps:
 //jewishnaples.org/calendar/calendar16948\n\nBBYO  Youth Activity
DTSTART;TZID=America/New_York:20160128T180000
DTEND;TZID=America/New_York:20160128T180000
END:VEVENT
END:VCALENDAR
