BEGIN:VCALENDAR
PRODID:-//eluceo/ical//2.0/EN
VERSION:2.0
CALSCALE:GREGORIAN
BEGIN:VEVENT
UID:7e97970a86fc0031b0833d9d037f065b
DTSTAMP:20260424T081202Z
SUMMARY:BT  Rabbi's Study Course
DESCRIPTION:Jewish Federation of Greater Naples\nCommunity Calendar\nhttps:
 //jewishnaples.org/calendar/calendar16944\n\nBT  Rabbi's Study Course
DTSTART;TZID=America/New_York:20160127T193000
DTEND;TZID=America/New_York:20160127T193000
END:VEVENT
END:VCALENDAR
