BEGIN:VCALENDAR
PRODID:-//eluceo/ical//2.0/EN
VERSION:2.0
CALSCALE:GREGORIAN
BEGIN:VEVENT
UID:874be57b38f25dae7680c2eb9e6534ef
DTSTAMP:20260424T013124Z
SUMMARY:IAC / ZOA  Screening of "Body and Soul" with Producer\, Gloria Gree
 nfield
DESCRIPTION:Jewish Federation of Greater Naples\nCommunity Calendar\nhttps:
 //jewishnaples.org/calendar/calendar16943\n\nIAC / ZOA  Screening of "Body
  and Soul" with Producer\, Gloria Greenfield
DTSTART;TZID=America/New_York:20160127T190000
DTEND;TZID=America/New_York:20160127T190000
END:VEVENT
END:VCALENDAR
