BEGIN:VCALENDAR
PRODID:-//eluceo/ical//2.0/EN
VERSION:2.0
CALSCALE:GREGORIAN
BEGIN:VEVENT
UID:fc9b613b447b20c514f71d5d4958ec61
DTSTAMP:20260423T091315Z
SUMMARY:WCA - TS  Canasta
DESCRIPTION:Jewish Federation of Greater Naples\nCommunity Calendar\nhttps:
 //jewishnaples.org/calendar/calendar16938\n\nWCA - TS  Canasta
DTSTART;TZID=America/New_York:20160127T130000
DTEND;TZID=America/New_York:20160127T130000
END:VEVENT
END:VCALENDAR
