BEGIN:VCALENDAR
PRODID:-//eluceo/ical//2.0/EN
VERSION:2.0
CALSCALE:GREGORIAN
BEGIN:VEVENT
UID:883f34234778a0262c023313a3390956
DTSTAMP:20260422T203037Z
SUMMARY:JCMI  Bridge
DESCRIPTION:Jewish Federation of Greater Naples\nCommunity Calendar\nhttps:
 //jewishnaples.org/calendar/calendar16937\n\nJCMI  Bridge
DTSTART;TZID=America/New_York:20160127T130000
DTEND;TZID=America/New_York:20160127T130000
END:VEVENT
END:VCALENDAR
