BEGIN:VCALENDAR
PRODID:-//eluceo/ical//2.0/EN
VERSION:2.0
CALSCALE:GREGORIAN
BEGIN:VEVENT
UID:1c0080e1bebe9c3c38970edddc2eacf5
DTSTAMP:20260423T135054Z
SUMMARY:JCMI   Duplicate Bridge
DESCRIPTION:Jewish Federation of Greater Naples\nCommunity Calendar\nhttps:
 //jewishnaples.org/calendar/calendar16933\n\nJCMI   Duplicate Bridge
DTSTART;TZID=America/New_York:20160126T130000
DTEND;TZID=America/New_York:20160126T130000
END:VEVENT
END:VCALENDAR
