BEGIN:VCALENDAR
PRODID:-//eluceo/ical//2.0/EN
VERSION:2.0
CALSCALE:GREGORIAN
BEGIN:VEVENT
UID:cf509fdb76ac49f70894499afa6f75f1
DTSTAMP:20260424T104626Z
SUMMARY:BT  Book Group
DESCRIPTION:Jewish Federation of Greater Naples\nCommunity Calendar\nhttps:
 //jewishnaples.org/calendar/calendar16930\n\nBT  Book Group
DTSTART;TZID=America/New_York:20160125T193000
DTEND;TZID=America/New_York:20160125T193000
END:VEVENT
END:VCALENDAR
