BEGIN:VCALENDAR
PRODID:-//eluceo/ical//2.0/EN
VERSION:2.0
CALSCALE:GREGORIAN
BEGIN:VEVENT
UID:4c4a577003a89ff22c803743d675ae42
DTSTAMP:20260422T003948Z
SUMMARY:BT Cantorial Shabbaton
DESCRIPTION:Jewish Federation of Greater Naples\nCommunity Calendar\nhttps:
 //jewishnaples.org/calendar/calendar16921\n\nBT Cantorial Shabbaton
DTSTART;TZID=America/New_York:20160124T083000
DTEND;TZID=America/New_York:20160124T083000
END:VEVENT
END:VCALENDAR
