BEGIN:VCALENDAR
PRODID:-//eluceo/ical//2.0/EN
VERSION:2.0
CALSCALE:GREGORIAN
BEGIN:VEVENT
UID:0642c5463d0f4324d0059036004a55c0
DTSTAMP:20260424T053234Z
SUMMARY:CHA  Services
DESCRIPTION:Jewish Federation of Greater Naples\nCommunity Calendar\nhttps:
 //jewishnaples.org/calendar/calendar16917\n\nCHA  Services
DTSTART;TZID=America/New_York:20160123T100000
DTEND;TZID=America/New_York:20160123T100000
END:VEVENT
END:VCALENDAR
