BEGIN:VCALENDAR
PRODID:-//eluceo/ical//2.0/EN
VERSION:2.0
CALSCALE:GREGORIAN
BEGIN:VEVENT
UID:8318d8705747353145a4d3be3184f034
DTSTAMP:20260423T163947Z
SUMMARY:GenShoah - TS   One Book Southwest Florida
DESCRIPTION:Jewish Federation of Greater Naples\nCommunity Calendar\nhttps:
 //jewishnaples.org/calendar/calendar16912\n\nGenShoah - TS   One Book Sout
 hwest Florida
DTSTART;TZID=America/New_York:20160121T190000
DTEND;TZID=America/New_York:20160121T190000
END:VEVENT
END:VCALENDAR
