BEGIN:VCALENDAR
PRODID:-//eluceo/ical//2.0/EN
VERSION:2.0
CALSCALE:GREGORIAN
BEGIN:VEVENT
UID:2cfb9f86fe575fe472ac11bf3822e3cd
DTSTAMP:20260422T121325Z
SUMMARY:BT  Board Meeting
DESCRIPTION:Jewish Federation of Greater Naples\nCommunity Calendar\nhttps:
 //jewishnaples.org/calendar/calendar16910\n\nBT  Board Meeting
DTSTART;TZID=America/New_York:20160121T160000
DTEND;TZID=America/New_York:20160121T160000
END:VEVENT
END:VCALENDAR
