BEGIN:VCALENDAR
PRODID:-//eluceo/ical//2.0/EN
VERSION:2.0
CALSCALE:GREGORIAN
BEGIN:VEVENT
UID:e41ab0777ffd31589a87694af40fdd65
DTSTAMP:20260423T223915Z
SUMMARY:BT  Rabbi's Study Course
DESCRIPTION:Jewish Federation of Greater Naples\nCommunity Calendar\nhttps:
 //jewishnaples.org/calendar/calendar16906\n\nBT  Rabbi's Study Course
DTSTART;TZID=America/New_York:20160120T193000
DTEND;TZID=America/New_York:20160120T193000
END:VEVENT
END:VCALENDAR
