BEGIN:VCALENDAR
PRODID:-//eluceo/ical//2.0/EN
VERSION:2.0
CALSCALE:GREGORIAN
BEGIN:VEVENT
UID:d855a908b69e8d9b22f1c3c21da6da9f
DTSTAMP:20260423T224945Z
SUMMARY:CHA  Hebrew School
DESCRIPTION:Jewish Federation of Greater Naples\nCommunity Calendar\nhttps:
 //jewishnaples.org/calendar/calendar16903\n\nCHA  Hebrew School
DTSTART;TZID=America/New_York:20160120T163000
DTEND;TZID=America/New_York:20160120T163000
END:VEVENT
END:VCALENDAR
