BEGIN:VCALENDAR
PRODID:-//eluceo/ical//2.0/EN
VERSION:2.0
CALSCALE:GREGORIAN
BEGIN:VEVENT
UID:4003b4a937eb594f3133d45f1bdad190
DTSTAMP:20260423T111214Z
SUMMARY:BT  Hebrew School
DESCRIPTION:Jewish Federation of Greater Naples\nCommunity Calendar\nhttps:
 //jewishnaples.org/calendar/calendar16902\n\nBT  Hebrew School
DTSTART;TZID=America/New_York:20160120T163000
DTEND;TZID=America/New_York:20160120T163000
END:VEVENT
END:VCALENDAR
