BEGIN:VCALENDAR
PRODID:-//eluceo/ical//2.0/EN
VERSION:2.0
CALSCALE:GREGORIAN
BEGIN:VEVENT
UID:bd2f7b33e2f9735fc85e22c156784b95
DTSTAMP:20260420T020846Z
SUMMARY:JFCC Klezmer Concert
DESCRIPTION:Jewish Federation of Greater Naples\nCommunity Calendar\nhttps:
 //jewishnaples.org/calendar/calendar16901\n\nJFCC Klezmer Concert
DTSTART;TZID=America/New_York:20160120T133000
DTEND;TZID=America/New_York:20160120T133000
END:VEVENT
END:VCALENDAR
