BEGIN:VCALENDAR
PRODID:-//eluceo/ical//2.0/EN
VERSION:2.0
CALSCALE:GREGORIAN
BEGIN:VEVENT
UID:3bdfc92687bc2d483e0a7a8f3d6ad0e7
DTSTAMP:20260423T040606Z
SUMMARY:WCA - TS  Canasta
DESCRIPTION:Jewish Federation of Greater Naples\nCommunity Calendar\nhttps:
 //jewishnaples.org/calendar/calendar16900\n\nWCA - TS  Canasta
DTSTART;TZID=America/New_York:20160120T130000
DTEND;TZID=America/New_York:20160120T130000
END:VEVENT
END:VCALENDAR
