BEGIN:VCALENDAR
PRODID:-//eluceo/ical//2.0/EN
VERSION:2.0
CALSCALE:GREGORIAN
BEGIN:VEVENT
UID:9df4838245918e3baf86a15881450497
DTSTAMP:20260424T010952Z
SUMMARY:GenShoah-One Book Southwest Florida
DESCRIPTION:Jewish Federation of Greater Naples\nCommunity Calendar\nhttps:
 //jewishnaples.org/calendar/calendar16894\n\nGenShoah-One Book Southwest F
 lorida
DTSTART;TZID=America/New_York:20160119T133000
DTEND;TZID=America/New_York:20160119T133000
END:VEVENT
END:VCALENDAR
