BEGIN:VCALENDAR
PRODID:-//eluceo/ical//2.0/EN
VERSION:2.0
CALSCALE:GREGORIAN
BEGIN:VEVENT
UID:de5981b9d609918029a40eaf58ee5d67
DTSTAMP:20260423T001713Z
SUMMARY:JCMI   Duplicate Bridge
DESCRIPTION:Jewish Federation of Greater Naples\nCommunity Calendar\nhttps:
 //jewishnaples.org/calendar/calendar16893\n\nJCMI   Duplicate Bridge
DTSTART;TZID=America/New_York:20160119T130000
DTEND;TZID=America/New_York:20160119T130000
END:VEVENT
END:VCALENDAR
