BEGIN:VCALENDAR
PRODID:-//eluceo/ical//2.0/EN
VERSION:2.0
CALSCALE:GREGORIAN
BEGIN:VEVENT
UID:9d464ef5b877501b0402887eb3a14955
DTSTAMP:20260422T003416Z
SUMMARY:HDH  Daytime Study Group
DESCRIPTION:Jewish Federation of Greater Naples\nCommunity Calendar\nhttps:
 //jewishnaples.org/calendar/calendar16892\n\nHDH  Daytime Study Group
DTSTART;TZID=America/New_York:20160119T130000
DTEND;TZID=America/New_York:20160119T130000
END:VEVENT
END:VCALENDAR
