BEGIN:VCALENDAR
PRODID:-//eluceo/ical//2.0/EN
VERSION:2.0
CALSCALE:GREGORIAN
BEGIN:VEVENT
UID:18b9d64ff609c4a5ed6d1bcc05f19e81
DTSTAMP:20260424T051130Z
SUMMARY:BT  Rabbi's Study Course
DESCRIPTION:Jewish Federation of Greater Naples\nCommunity Calendar\nhttps:
 //jewishnaples.org/calendar/calendar16891\n\nBT  Rabbi's Study Course
DTSTART;TZID=America/New_York:20160119T121500
DTEND;TZID=America/New_York:20160119T121500
END:VEVENT
END:VCALENDAR
