BEGIN:VCALENDAR
PRODID:-//eluceo/ical//2.0/EN
VERSION:2.0
CALSCALE:GREGORIAN
BEGIN:VEVENT
UID:cb32958ad80befdc1fe78d59633f3b5e
DTSTAMP:20260423T022443Z
SUMMARY:JCMI  Book Club
DESCRIPTION:Jewish Federation of Greater Naples\nCommunity Calendar\nhttps:
 //jewishnaples.org/calendar/calendar16890\n\nJCMI  Book Club
DTSTART;TZID=America/New_York:20160119T110000
DTEND;TZID=America/New_York:20160119T110000
END:VEVENT
END:VCALENDAR
