BEGIN:VCALENDAR
PRODID:-//eluceo/ical//2.0/EN
VERSION:2.0
CALSCALE:GREGORIAN
BEGIN:VEVENT
UID:c8c7eaf7050112b7f8faefe4bcdd9035
DTSTAMP:20260424T000007Z
SUMMARY:JCMI  Bingo
DESCRIPTION:Jewish Federation of Greater Naples\nCommunity Calendar\nhttps:
 //jewishnaples.org/calendar/calendar16887\n\nJCMI  Bingo
DTSTART;TZID=America/New_York:20160118T173000
DTEND;TZID=America/New_York:20160118T173000
END:VEVENT
END:VCALENDAR
